BEGIN:VCALENDAR
VERSION:2.0
PRODID:-//Warner Pacific University Library - ECPv5.16.1//NONSGML v1.0//EN
CALSCALE:GREGORIAN
METHOD:PUBLISH
X-WR-CALNAME:Warner Pacific University Library
X-ORIGINAL-URL:https://library.warnerpacific.edu
X-WR-CALDESC:Events for Warner Pacific University Library
BEGIN:VTIMEZONE
TZID:America/Los_Angeles
BEGIN:DAYLIGHT
TZOFFSETFROM:-0800
TZOFFSETTO:-0700
TZNAME:PDT
DTSTART:20250309T100000
END:DAYLIGHT
BEGIN:STANDARD
TZOFFSETFROM:-0700
TZOFFSETTO:-0800
TZNAME:PST
DTSTART:20251102T090000
END:STANDARD
END:VTIMEZONE
BEGIN:VEVENT
DTSTART;TZID=America/Los_Angeles:20250305T090000
DTEND;TZID=America/Los_Angeles:20250305T170000
DTSTAMP:20260419T144302
CREATED:20250227T202544Z
LAST-MODIFIED:20250227T203511Z
UID:1836-1741165200-1741194000@library.warnerpacific.edu
SUMMARY:Open House
DESCRIPTION:Come join us to celebrate the opening of our newly remodeled library! Get a free t-shirt (while supplies last). Raffle drawings will be held throughout the day. \n9:00am | Enjoy coffee and donuts\, hosted by the tutors. \n10:00am | Campus Resources Fair – Learn about clubs and resources on campus. \n12:00pm | Free Lunch \n1:00pm | Game Time – Join us for E-Sports and board games. Use our games or bring your own. \n3:00 | Celebrity Storytime – Come hear your favorite campus “celebrities” read children’s stories. \n4:00pm | Meet and Greet – Enjoy cake and music\, hosted by the Peer Navigators. \n5:00pm | Raffle Drawing – Win two Timbers tickets or WPU swag!
URL:https://library.warnerpacific.edu/event/open-house/
END:VEVENT
END:VCALENDAR